BEGIN:VCALENDAR
VERSION:2.0
X-PUBLISHED-TTL:PT1H
PRODID:https://industrieclub-thueringen.de/
METHOD:PUBLISH
BEGIN:VEVENT
UID:918317b57931b6b7a7d29490fe5ec9f9@https://industrieclub-thueringen.de/
ORGANIZER;CN="Industrieclub Thüringen":MAILTO:info@industrieclub-thueringen.de
SUMMARY:Besichtigung Fraunhofer Institut
DESCRIPTION:
LOCATION:Fraunhofer Institut
CLASS:PUBLIC
DTSTART:20260709T133000Z
DTEND:20260709T215959ZZ
DTSTAMP:20260424T155436Z
END:VEVENT
END:VCALENDAR