BEGIN:VCALENDAR
VERSION:2.0
X-PUBLISHED-TTL:PT1H
PRODID:https://industrieclub-thueringen.de/
METHOD:PUBLISH
BEGIN:VEVENT
UID:d395771085aab05244a4fb8fd91bf4ee@https://industrieclub-thueringen.de/
ORGANIZER;CN="Industrieclub Thüringen":MAILTO:info@industrieclub-thueringen.de
SUMMARY:Prof. Dr. med. Volker Steinkraus, Dermatologikum Hamburg
DESCRIPTION:Gr&uuml;nder des Dermatilogikum Hamburg
Facharzt f&uuml;r Dermatologie
LOCATION:Hotel Elephant
CLASS:PUBLIC
DTSTART:20260505T163000Z
DTEND:20260505T215959ZZ
DTSTAMP:20260421T064731Z
END:VEVENT
END:VCALENDAR