BEGIN:VCALENDAR
VERSION:2.0
X-PUBLISHED-TTL:PT1H
PRODID:https://industrieclub-thueringen.de/
METHOD:PUBLISH
BEGIN:VEVENT
UID:07cdfd23373b17c6b337251c22b7ea57@https://industrieclub-thueringen.de/
ORGANIZER;CN="Industrieclub Thüringen":MAILTO:info@industrieclub-thueringen.de
SUMMARY:Dr. Michael Bolle, Carl-Zeiss-Stiftung - Vorsitzender des Stiftungsrats
DESCRIPTION:Thema:\n\n" Lost in Transformation:&nbsp;\n\nWie Innovation und Technologie den Weg aus der Krise ebnen"
LOCATION:Hotel Elephant
CLASS:PUBLIC
DTSTART:20260205T173000Z
DTEND:20260205T215959ZZ
DTSTAMP:20260424T185037Z
END:VEVENT
END:VCALENDAR