BEGIN:VCALENDAR
VERSION:2.0
X-PUBLISHED-TTL:PT1H
PRODID:https://industrieclub-thueringen.de/
METHOD:PUBLISH
BEGIN:VEVENT
UID:7eabe3a1649ffa2b3ff8c02ebfd5659f@https://industrieclub-thueringen.de/
ORGANIZER;CN="Industrieclub Thüringen":MAILTO:info@industrieclub-thueringen.de
SUMMARY:Dr. Cornelia Haase-Lerch, IHK Erfurt, Hauptgeschäftsführerin
DESCRIPTION:Thema:
"Die IHK Erfurt: Eine schlagkr&auml;ftige Institution- nicht nur w&auml;hrend Corona!"
LOCATION:Hotel Steigenberger Esplanade Jena
CLASS:PUBLIC
DTSTART:20201008T163000Z
DTEND:20201008T215959ZZ
DTSTAMP:20260421T020611Z
END:VEVENT
END:VCALENDAR